BEGIN:VCALENDAR
VERSION:2.0
PRODID:-//ChamberMaster//Event Calendar 2.0//EN
METHOD:PUBLISH
X-PUBLISHED-TTL:P3D
REFRESH-INTERVAL:P3D
CALSCALE:GREGORIAN
BEGIN:VEVENT
DTSTART:20260509T150000Z
DTEND:20260509T170000Z
X-MICROSOFT-CDO-ALLDAYEVENT:FALSE
SUMMARY:American Legion Auxiliary National President to speak at Rev George L Fox Memorial Chapel & Musuem
DESCRIPTION:The Rev. George L. Fox Memorial Chapel & Museum in Gilman\, VT welcomes American Legion Auxiliary National President Pam Ray for a special program. Join us for the Four Chaplains Ceremony at the Rev. George L. Fox Memorial Chapel & Museum in Gilman\, VT. This special event honors Rev. George L. Fox and the Immortal Four Chaplains of World War II. The Four Chaplains Ceremony remembers a powerful story of courage\, sacrifice\, and unity. These four chaplains gave their lives during World War II\, leaving behind a legacy that continues to inspire generations. Pam Ray\, American Legion Auxiliary National President\, will speak during the program. In addition\, guests can enjoy music and time for reflection. Visitors can also explore the George & Isadore Fox Museum. The museum shares the life and legacy of Rev. Fox through exhibits\, stories\, and historical artifacts. As a result\, guests can learn more about the Four Chaplains and their lasting impact. After the ceremony\, we will serve a light lunch. This provides an opportunity to gather and connect with others in the community. To learn more about the chapel and museum\, please visit our homepage. You can also learn more about the Four Chaplains through organizations such as the Four Chaplains Memorial Foundation. This free event is open to everyone. Donations are greatly appreciated and help support the mission of the chapel and museum. We hope you will join us for the Four Chaplains Ceremony in Gilman\, VT. RSVP: glfox.memorialchapel@gmail.com by May 2nd
X-ALT-DESC;FMTTYPE=text/html:The Rev. George L. Fox Memorial Chapel &amp\; Museum in Gilman\, VT welcomes American Legion Auxiliary National President Pam Ray for a special program. Join us for the Four Chaplains Ceremony at the Rev. George L. Fox Memorial Chapel &amp\; Museum in Gilman\, VT. This special event honors Rev. George L. Fox and the Immortal Four Chaplains of World War II. The Four Chaplains Ceremony remembers a powerful story of courage\, sacrifice\, and unity. These four chaplains gave their lives during World War II\, leaving behind a legacy that continues to inspire generations. Pam Ray\, American Legion Auxiliary National President\, will speak during the program. In addition\, guests can enjoy music and time for reflection. Visitors can also explore the George &amp\; Isadore Fox Museum. The museum shares the life and legacy of Rev. Fox through exhibits\, stories\, and historical artifacts. As a result\, guests can learn more about the Four Chaplains and their lasting impact. After the ceremony\, we will serve a light lunch. This provides an opportunity to gather and connect with others in the community. To learn more about the chapel and museum\, please visit our homepage. You can also learn more about the Four Chaplains through organizations such as the Four Chaplains Memorial Foundation. This free event is open to everyone. Donations are greatly appreciated and help support the mission of the chapel and museum. We hope you will join us for the Four Chaplains Ceremony in Gilman\, VT. RSVP: glfox.memorialchapel@gmail.com by May 2nd
LOCATION:Rev George L Fox Memorial Chapel & Museum\, 52 Elm St\, Gilman\, VT
UID:e.3312.2579
SEQUENCE:3
DTSTAMP:20260420T160128Z
URL:https://www.northerngatewaychamber.org/events/details/american-legion-auxiliary-national-president-to-speak-at-rev-george-l-fox-memorial-chapel-musuem-2579
END:VEVENT

END:VCALENDAR
